BEGIN:VCALENDAR
VERSION:2.0
PRODID:-//62.108.32.139//NONSGML kigkonsult.se iCalcreator 2.20//
CALSCALE:GREGORIAN
METHOD:PUBLISH
X-WR-TIMEZONE:Europe/Berlin
BEGIN:VEVENT
UID:event457@FWV Vorwärts e.V.
DTSTAMP:20260420T014612Z
CATEGORIES:Overwerder
DESCRIPTION:Overwerderversammlung 2026\nKategorie: Overwerder\nICS-Link: ht
 tps://www.fwv-vorwaerts.de/cms/index.php?option=com_jem&view=event&id=457:
 overwerderversammlung-2026\n
DTSTART;TZID=Europe/Berlin:20260530T110000
DTEND;TZID=Europe/Berlin:20260530T110000
LOCATION:Overwerder\,Overwerder Bogen\,21037 Hamburg
SUMMARY:Overwerderversammlung 2026
URL:https://www.fwv-vorwaerts.de/cms/index.php?option=com_jem&view=event&id
 =457:overwerderversammlung-2026
END:VEVENT
END:VCALENDAR